BEGIN:VCALENDAR
VERSION:2.0
PRODID:-//Library Market//iCal Export//EN
BEGIN:VEVENT
SUMMARY:Sewing - Journal Pen Holder
UID:6908
DTSTAMP:20260423T033400Z
DTSTART:20250226T233000Z
DTEND:20250227T010000Z
LOCATION:Byron Public Library District, 100 S Washington St., Byron, IL 61
 010, United States
ROOM: Creative Studio
DESCRIPTION:Looking for a fun and creative way to personalize your journal
  or notebook? Join us for a hands-on workshop where you&#039;ll learn to s
 ew a stylish and functional fabric pen holder that wraps around your journ
 al-keeping your pens or your markers right where you need them. PLEASE BRI
 NG YOUR FAVORITE JOURNAL OR NOTEBOOK. 
URL:https://www.byronlibrary.org/event/sewing-journal-pen-holder-6908
END:VEVENT
END:VCALENDAR
