BEGIN:VCALENDAR
VERSION:2.0
PRODID:-//Library Market//iCal Export//EN
BEGIN:VEVENT
SUMMARY:Rogue Town Q&amp;A with local author Vito Colucci, Jr.
UID:6914
DTSTAMP:20260423T033500Z
DTSTART:20250221T000000Z
DTEND:20250221T013000Z
LOCATION:Byron Public Library District, 100 S Washington St., Byron, IL 61
 010, United States
ROOM: Meeting Room
DESCRIPTION:By popular demand, local author Vito Colucci, Jr. is back! Don
 &#039;t miss the chance to dive deep into the fascinating world of his Pul
 itzer Prize winning book, Rogue Town. Rogue Town is Vito&#039;s first-hand
  account of the true story of Stamford, Connecticut, a city that from 1965
  through 1985 was under the stranglehold of organized crime and run by cor
 rupt officials. This story served as a catalyst for Ronald Reagan as he es
 tablished the President&#039;s commission on organized crime. Join us for 
 an exclusive question-and-answer session and discover what makes Rogue Tow
 n a must-read. Copies of the book will be available for purchase at this p
 rogram ($20.00 cash or check).
URL:https://www.byronlibrary.org/event/rogue-town-qa-local-author-vito-col
 ucci-jr-6914
END:VEVENT
END:VCALENDAR
