BEGIN:VCALENDAR
VERSION:2.0
PRODID:-//Library Market//iCal Export//EN
BEGIN:VEVENT
SUMMARY:Movie Night In A Box Kit Pick-Up
UID:6915
DTSTAMP:20260423T033400Z
DTSTART:20250207T150000Z
DTEND:20250207T230000Z
LOCATION:Byron Public Library District, 100 S Washington St., Byron, IL 61
 010, United States
ROOM: Movie Night In A Box Kit Pick-Up
DESCRIPTION:Register for a &quot;Movie Night in a Box&quot; and receive 2 
 themed DVDs (February&#039;s theme is Romance) handpicked just for you, an
 d some treats to complete your Movie!Box and DVDs will need to be returned
  but you keep everything else!
URL:https://www.byronlibrary.org/event/movie-night-box-kit-pick-6915
END:VEVENT
END:VCALENDAR
