BEGIN:VCALENDAR
VERSION:2.0
PRODID:-//Library Market//iCal Export//EN
BEGIN:VEVENT
SUMMARY:Movie Showing: A Walk In the Clouds
UID:6937
DTSTAMP:20260423T033200Z
DTSTART:20250211T190000Z
DTEND:20250211T210000Z
LOCATION:Byron Public Library District, 100 S Washington St., Byron, IL 61
 010, United States
ROOM: Meeting Room
DESCRIPTION:When soldier Paul Sutton is on his way home after World War II
 , he realizes that he barely knows his young wife, Betty. With the couple&
 #039;s relationship strained and Paul haunted by memories of the war, he i
 s happy to have a diversion in the form of beautiful traveler Victoria Ara
 gon. Circumstances force Paul to pose as Victoria&#039;s new husband for h
 er close-knit Mexican-American family, a situation that brings tension and
  unexpected results. (Rated PG-13)Popcorn will be served during the movie.
  
URL:https://www.byronlibrary.org/event/movie-showing-walk-clouds-6937
END:VEVENT
END:VCALENDAR
