BEGIN:VCALENDAR
VERSION:2.0
PRODID:-//Library Market//iCal Export//EN
BEGIN:VEVENT
SUMMARY:Summer Teen Time
UID:709
DTSTAMP:20260423T115100Z
DTSTART:20240617T190000Z
DTEND:20240617T210000Z
LOCATION:Byron Public Library District, 100 S Washington St., Byron, IL 61
 010, United States
ROOM: Teen Department &amp; Creative Studio
DESCRIPTION:Join us this summer for Teen Time on Mondays-Thursdays from 2-
 4 pm for crafts, video games, VR and hanging out with friends! No registra
 tion is necessary- just show up on the days you can! 
URL:https://www.byronlibrary.org/event/summer-teen-time-709
END:VEVENT
END:VCALENDAR
