BEGIN:VCALENDAR
VERSION:2.0
PRODID:-//Library Market//iCal Export//EN
BEGIN:VEVENT
SUMMARY:Summer Teen Time
UID:713
DTSTAMP:20260423T115200Z
DTSTART:20240624T190000Z
DTEND:20240624T210000Z
LOCATION:Byron Public Library District, 100 S Washington St., Byron, IL 61
 010, United States
ROOM: Teen Department &amp; Creative Studio
DESCRIPTION:
URL:https://www.byronlibrary.org/event/summer-teen-time-713
END:VEVENT
END:VCALENDAR
