BEGIN:VCALENDAR
VERSION:2.0
PRODID:-//Library Market//iCal Export//EN
BEGIN:VEVENT
SUMMARY:Teen Dungeons &amp; Dragons
UID:718
DTSTAMP:20260423T115100Z
DTSTART:20240612T190000Z
DTEND:20240612T210000Z
LOCATION:Byron Public Library District, 100 S Washington St., Byron, IL 61
 010, United States
ROOM: Classroom 2
DESCRIPTION:Join our weekly D&amp;D group, which is open to new and experi
 enced players! The two Dungeon Masters alternate weeks, so it would be bes
 t to pick one D&amp;D campaign and come every other week, so you stay with
  one DM and epic journey! Adam: 6/5, 6/19Jacob: 6/12, 6/26
URL:https://www.byronlibrary.org/event/teen-dungeons-dragons-718
END:VEVENT
END:VCALENDAR
