BEGIN:VCALENDAR
VERSION:2.0
PRODID:-//Library Market//iCal Export//EN
BEGIN:VEVENT
SUMMARY:Teen All-Day D&amp;D Extravaganza
UID:734
DTSTAMP:20260423T115100Z
DTSTART:20240727T150000Z
DTEND:20240727T210000Z
LOCATION:Byron Public Library District, 100 S Washington St., Byron, IL 61
 010, United States
ROOM: Meeting Room
DESCRIPTION:Play an epic all-day (10 am- 4 pm) Dungeons &amp; Dragons game
 ! Multiple DM&#039;s will guide you through the one-shot Lost Mine of Phan
 delver D&amp;D game. Pizza will be served for lunch!New and experienced pl
 ayers are welcome. Pre-made character sheets will be available at the game
 . This adventure is for 1st level characters. If you would like to make yo
 ur own character and bring it, you may do so -- please say so in the space
  below. Otherwise, you will be provided with a character made for you. If
  you have an idea for what kind of character you&#039;d like to play, we c
 an make it for you. In the space below, provide as much detail as you can 
 about the type of character you&#039;d like (for example, you could say &q
 uot;I&#039;d like to play an elf wizard named Wendrell who can create fir
 e&quot; or &quot;I want to play a character like Conan the Barbarian, exce
 pt they&#039;re a gnome.&quot;), and we will do our best to accommodate y
 ou. If you have no preference, say so. 
URL:https://www.byronlibrary.org/event/teen-all-day-dd-extravaganza-734
END:VEVENT
END:VCALENDAR
