BEGIN:VCALENDAR
VERSION:2.0
PRODID:-//Library Market//iCal Export//EN
BEGIN:VEVENT
SUMMARY:RRVBC Blood Drive
UID:7360
DTSTAMP:20260423T050500Z
DTSTART:20250102T190000Z
DTEND:20250103T000000Z
LOCATION:Byron Public Library District, 100 S Washington St., Byron, IL 61
 010, United States
ROOM: Meeting Room
DESCRIPTION:Join the Byron Public Library as we host a community blood dri
 ve in partnership with Rock River Valley Blood Center. If you&#039;d like
  to sign-up to donate please visit the link below:https://donor.rrvbc.org/
 donor/schedules/drive_schedule/55809.
URL:https://www.byronlibrary.org/event/rrvbc-blood-drive-7360
END:VEVENT
END:VCALENDAR
