BEGIN:VCALENDAR
VERSION:2.0
PRODID:-//Library Market//iCal Export//EN
BEGIN:VEVENT
SUMMARY:Paradise Playhouse Presents: Lucy! The Musical
UID:7379
DTSTAMP:20260423T033000Z
DTSTART:20250311T180000Z
DTEND:20250311T190000Z
LOCATION:Byron Public Library District, 100 S Washington St., Byron, IL 61
 010, United States
ROOM: Meeting Room
DESCRIPTION:Join Jillann Gabrielle from Paradise Playhouse as she presents
  Lucy! An original solo musical based on the life of Lucille Ball. Lucy! t
 akes her from her shaky family beginnings in upstate New York, through Bro
 adway, and finally to Hollywood. Eventually she meets and marries Desi Arn
 az along the way - their volatile but passionate marriage, her reign as Qu
 een of the Bs, and finally to her zenith as the Lucy character on TV. It a
 lso portrays her eventual successful marriage to actor/comedian/producer G
 ary Morton. You get to peer into the deep recesses of Lucy&#039;s mind and
  emotions, her struggles and her triumphs. Exhaustively researched, brilli
 antly written, and radiantly performed, this original solo musical is one 
 you don&#039;t want to miss! 
URL:https://www.byronlibrary.org/event/paradise-playhouse-presents-lucille
 -ball-musical-7379
END:VEVENT
END:VCALENDAR
