BEGIN:VCALENDAR
VERSION:2.0
PRODID:-//Library Market//iCal Export//EN
BEGIN:VEVENT
SUMMARY:Teen Movie Matinee
UID:7555
DTSTAMP:20260423T032200Z
DTSTART:20250217T190000Z
DTEND:20250217T210000Z
LOCATION:Byron Public Library District, 100 S Washington St., Byron, IL 61
 010, United States
ROOM: Teen Department
DESCRIPTION:On your day off school, watch the animated movie Inside Out 2 
 (PG) with your friends! This is a drop-in program- no registration is nece
 ssary. There is no Teen Time on this day. 
URL:https://www.byronlibrary.org/event/teen-movie-matinee-7555
END:VEVENT
END:VCALENDAR
