BEGIN:VCALENDAR
VERSION:2.0
PRODID:-//Library Market//iCal Export//EN
BEGIN:VEVENT
SUMMARY:Chess Horizons
UID:7557
DTSTAMP:20260423T033100Z
DTSTART:20250225T233000Z
DTEND:20250226T013000Z
LOCATION:Byron Public Library District, 100 S Washington St., Byron, IL 61
 010, United States
ROOM: Classroom 1
DESCRIPTION:Come play chess with enthusiasts of all skill levels.  Two ex
 perienced chess players are available to coach your gameplay upon request.
 This program is open to teens (middle school &amp; high school students) a
 nd adults. 
URL:https://www.byronlibrary.org/event/chess-horizons-7557
END:VEVENT
END:VCALENDAR
