BEGIN:VCALENDAR
VERSION:2.0
PRODID:-//Library Market//iCal Export//EN
BEGIN:VEVENT
SUMMARY:Needles &amp; Hooks
UID:7568
DTSTAMP:20260423T001900Z
DTSTART:20250311T150000Z
DTEND:20250311T170000Z
LOCATION:Byron Public Library District, 100 S Washington St., Byron, IL 61
 010, United States
ROOM: Classroom 2
DESCRIPTION:
URL:https://www.byronlibrary.org/event/needles-hooks-7568
END:VEVENT
END:VCALENDAR
