BEGIN:VCALENDAR
VERSION:2.0
PRODID:-//Library Market//iCal Export//EN
BEGIN:VEVENT
SUMMARY:Needles &amp; Hooks
UID:7606
DTSTAMP:20260422T224900Z
DTSTART:20251202T160000Z
DTEND:20251202T180000Z
LOCATION:Byron Public Library District, 100 S Washington St., Byron, IL 61
 010, United States
ROOM: Classroom 2
DESCRIPTION:
URL:https://www.byronlibrary.org/event/needles-hooks-7606
END:VEVENT
END:VCALENDAR
