BEGIN:VCALENDAR
VERSION:2.0
PRODID:-//Library Market//iCal Export//EN
BEGIN:VEVENT
SUMMARY:Bridge
UID:7639
DTSTAMP:20260423T001900Z
DTSTART:20250422T180000Z
DTEND:20250422T210000Z
LOCATION:Byron Public Library District, 100 S Washington St., Byron, IL 61
 010, United States
ROOM: Classroom 1
DESCRIPTION:
URL:https://www.byronlibrary.org/event/bridge-7639
END:VEVENT
END:VCALENDAR
