BEGIN:VCALENDAR
VERSION:2.0
PRODID:-//Library Market//iCal Export//EN
BEGIN:VEVENT
SUMMARY:Bridge
UID:7700
DTSTAMP:20260423T002000Z
DTSTART:20251120T190000Z
DTEND:20251120T220000Z
LOCATION:Byron Public Library District, 100 S Washington St., Byron, IL 61
 010, United States
ROOM: Classroom 2
DESCRIPTION:
URL:https://www.byronlibrary.org/event/bridge-7700
END:VEVENT
END:VCALENDAR
