BEGIN:VCALENDAR
VERSION:2.0
PRODID:-//Library Market//iCal Export//EN
BEGIN:VEVENT
SUMMARY:Bridge
UID:7708
DTSTAMP:20260422T224900Z
DTSTART:20251218T190000Z
DTEND:20251218T220000Z
LOCATION:Byron Public Library District, 100 S Washington St., Byron, IL 61
 010, United States
ROOM: Meeting Room
DESCRIPTION:
URL:https://www.byronlibrary.org/event/bridge-7708
END:VEVENT
END:VCALENDAR
