BEGIN:VCALENDAR
VERSION:2.0
PRODID:-//Library Market//iCal Export//EN
BEGIN:VEVENT
SUMMARY:Volunteens- Random Acts of Kindness
UID:7709
DTSTAMP:20260423T033400Z
DTSTART:20250204T000000Z
DTEND:20250204T010000Z
LOCATION:Byron Public Library District, 100 S Washington St., Byron, IL 61
 010, United States
ROOM: Teen Department
DESCRIPTION:We will create Kindness Jars on February 3rd for volunteer cre
 dit, to be distributed later in the month for Random Acts of Kindness Day!
  
URL:https://www.byronlibrary.org/event/volunteens-random-acts-kindness-770
 9
END:VEVENT
END:VCALENDAR
