BEGIN:VCALENDAR
VERSION:2.0
PRODID:-//Library Market//iCal Export//EN
BEGIN:VEVENT
SUMMARY:Sewing - Sunglass Case
UID:771
DTSTAMP:20260423T113500Z
DTSTART:20240626T223000Z
DTEND:20240627T000000Z
LOCATION:Byron Public Library District, 100 S Washington St., Byron, IL 61
 010, United States
ROOM: Creative Studio
DESCRIPTION:Our sewing project for June is a Sunglass Case. All materials 
 will be provided. 
URL:https://www.byronlibrary.org/event/sewing-sunglass-case-771
END:VEVENT
END:VCALENDAR
