BEGIN:VCALENDAR
VERSION:2.0
PRODID:-//Library Market//iCal Export//EN
BEGIN:VEVENT
SUMMARY:Teen Dungeons &amp; Dragons
UID:7712
DTSTAMP:20260423T032400Z
DTSTART:20250219T213000Z
DTEND:20250219T230000Z
LOCATION:Byron Public Library District, 100 S Washington St., Byron, IL 61
 010, United States
ROOM: Classroom 2
DESCRIPTION:Join our weekly after-school D&amp;D group, which is open to n
 ew and experienced players! The two Dungeon Masters alternate weeks, so it
  would be best to pick one D&amp;D campaign and come every other week, so 
 you stay with one DM and epic journey! Adam- 2/5, 2/19Jacob- 2/12, 2/26
URL:https://www.byronlibrary.org/event/teen-dungeons-dragons-7712
END:VEVENT
END:VCALENDAR
