BEGIN:VCALENDAR
VERSION:2.0
PRODID:-//Library Market//iCal Export//EN
BEGIN:VEVENT
SUMMARY:Cookies in a Mug for Teens
UID:7714
DTSTAMP:20260423T032200Z
DTSTART:20250214T000000Z
DTEND:20250214T010000Z
LOCATION:Byron Public Library District, 100 S Washington St., Byron, IL 61
 010, United States
ROOM: Meeting Room
DESCRIPTION:Learn how to make cookies in a mug on February 13th. Eat what 
 you create! Please bring a coffee mug from home to use.
URL:https://www.byronlibrary.org/event/cookies-mug-teens-7714
END:VEVENT
END:VCALENDAR
