BEGIN:VCALENDAR
VERSION:2.0
PRODID:-//Library Market//iCal Export//EN
BEGIN:VEVENT
SUMMARY:Stenciled Tote Bags for Teens
UID:7715
DTSTAMP:20260423T033400Z
DTSTART:20250228T000000Z
DTEND:20250228T010000Z
LOCATION:Byron Public Library District, 100 S Washington St., Byron, IL 61
 010, United States
ROOM: Creative Studio
DESCRIPTION:Using stencils and paint, create a stylish tote bag. We will p
 rovide the bags! 
URL:https://www.byronlibrary.org/event/stenciled-tote-bags-teens-7715
END:VEVENT
END:VCALENDAR
