BEGIN:VCALENDAR
VERSION:2.0
PRODID:-//Library Market//iCal Export//EN
BEGIN:VEVENT
SUMMARY:Wednesday Night Readers
UID:772
DTSTAMP:20260423T113400Z
DTSTART:20240619T233000Z
DTEND:20240620T003000Z
LOCATION:Byron Public Library District, 100 S Washington St., Byron, IL 61
 010, United States
ROOM: Classroom 1
DESCRIPTION:From the #1 New York Times bestselling author of The Hotel Nan
 tucket: After tragedy strikes, food blogger Hollis Shaw gathers four frien
 ds from different stages in her life to spend an unforgettable weekend on 
 Nantucket.Hollis Shaw’s life seems picture-perfect. She’s the creator 
 of the popular food blog Hungry with Hollis and is married to Matthew, a d
 reamy heart surgeon. But after she and Matthew get into a heated argument 
 one snowy morning, he leaves for the airport and is killed in a car accide
 nt. The cracks in Hollis’s perfect life—her strained marriage and her 
 complicated relationship with her daughter, Caroline—grow deeper.
URL:https://www.byronlibrary.org/event/wednesday-night-readers-772
END:VEVENT
END:VCALENDAR
