BEGIN:VCALENDAR
VERSION:2.0
PRODID:-//Library Market//iCal Export//EN
BEGIN:VEVENT
SUMMARY:Chocolate Taste Test-Thursday
UID:7744
DTSTAMP:20260423T032200Z
DTSTART:20250206T214500Z
DTEND:20250206T224500Z
LOCATION:Byron Public Library District, 100 S Washington St., Byron, IL 61
 010, United States
ROOM: Activity Room
DESCRIPTION:Try samples of different types of chocolate, as well as chocol
 ate covered items.
URL:https://www.byronlibrary.org/event/chocolate-taste-test-thursday-7744
END:VEVENT
END:VCALENDAR
