BEGIN:VCALENDAR
VERSION:2.0
PRODID:-//Library Market//iCal Export//EN
BEGIN:VEVENT
SUMMARY:DIY Toy &amp; Game Kit
UID:7745
DTSTAMP:20260423T032200Z
DTSTART:20250215T150000Z
DTEND:20250215T230000Z
LOCATION:Byron Public Library District, 100 S Washington St., Byron, IL 61
 010, United States
ROOM: DIY Toy &amp; Game Kit
DESCRIPTION:Create some toys and games.
URL:https://www.byronlibrary.org/event/diy-toy-game-kit-7745
END:VEVENT
END:VCALENDAR
