BEGIN:VCALENDAR
VERSION:2.0
PRODID:-//Library Market//iCal Export//EN
BEGIN:VEVENT
SUMMARY:Sewing - Bunny Treat Bag
UID:7837
DTSTAMP:20260423T033500Z
DTSTART:20250326T223000Z
DTEND:20250327T000000Z
LOCATION:Byron Public Library District, 100 S Washington St., Byron, IL 61
 010, United States
ROOM: Creative Studio
DESCRIPTION:Join us for a fun and creative sewing program where participan
 ts will make an adorable bunny-shaped treat bag! Perfect for gifting, stor
 ing small goodies or using as a spring decoration. This bunny treat bag co
 mbines a touch of whimsy with practical sewing skills. All materials suppl
 ied. Regardless of sewing experience, enrollment in this class requires su
 ccessful completion of the Beginner Sewing Class at the Byron Public Libra
 ry. 
URL:https://www.byronlibrary.org/event/sewing-bunny-treat-bag-7837
END:VEVENT
END:VCALENDAR
