BEGIN:VCALENDAR
VERSION:2.0
PRODID:-//Library Market//iCal Export//EN
BEGIN:VEVENT
SUMMARY:Wednesday Night Readers
UID:7840
DTSTAMP:20260423T033200Z
DTSTART:20250319T233000Z
DTEND:20250320T003000Z
LOCATION:Byron Public Library District, 100 S Washington St., Byron, IL 61
 010, United States
ROOM: Classroom 1
DESCRIPTION:A murder... A tragic accident... Or just parents behaving badl
 y? What&#039;s indisputable is that someone is dead.Madeline is a force to
  be reckoned with. She&#039;s funny, biting, and passionate; she remembers
  everything and forgives no one. Celeste is the kind of beautiful woman wh
 o makes the world stop and stare but she is paying a price for the illusio
 n of perfection. New to town, single mom Jane is so young that another mot
 her mistakes her for a nanny. She comes with a mysterious past and a sadne
 ss beyond her years. These three women are at different crossroads, but th
 ey will all wind up in the same shocking place. Big Little Lies is a bril
 liant take on ex-husbands and second wives, mothers and daughters, schooly
 ard scandal, and the little lies that can turn lethal.  
URL:https://www.byronlibrary.org/event/wednesday-night-readers-7840
END:VEVENT
END:VCALENDAR
