BEGIN:VCALENDAR
VERSION:2.0
PRODID:-//Library Market//iCal Export//EN
BEGIN:VEVENT
SUMMARY:Vintage Seed Packet Wreath Kit
UID:7841
DTSTAMP:20260423T033200Z
DTSTART:20250314T140000Z
DTEND:20250314T220000Z
LOCATION:Byron Public Library District, 100 S Washington St., Byron, IL 61
 010, United States
ROOM: Vintage Seed Packet Wreath Kit
DESCRIPTION:Spring is just around the corner! Create a unique Vintage Seed
  Packet Wreath with all the supplies included in this pick-up kit. Step-by
 -step instructions and ideas provided! 
URL:https://www.byronlibrary.org/event/vintage-seed-packet-wreath-kit-pick
 -7841
END:VEVENT
END:VCALENDAR
