BEGIN:VCALENDAR
VERSION:2.0
PRODID:-//Library Market//iCal Export//EN
BEGIN:VEVENT
SUMMARY:3D Cards
UID:7852
DTSTAMP:20260423T033200Z
DTSTART:20250303T190000Z
DTEND:20250303T210000Z
LOCATION:Byron Public Library District, 100 S Washington St., Byron, IL 61
 010, United States
ROOM: Creative Studio
DESCRIPTION:Learn how to make three-dimensional cards! We&#039;ll make a s
 ide-step card, a vertical easel card, and a box card. These 3D cards displ
 ay nicely, but all fold flat so they can fit in an envelope. Your recipien
 ts are sure to be impressed.
URL:https://www.byronlibrary.org/event/3d-cards-7852
END:VEVENT
END:VCALENDAR
