BEGIN:VCALENDAR
VERSION:2.0
PRODID:-//Library Market//iCal Export//EN
BEGIN:VEVENT
SUMMARY:DIY Flower Pot Bunny
UID:7858
DTSTAMP:20260423T033500Z
DTSTART:20250317T230000Z
DTEND:20250318T003000Z
LOCATION:Byron Public Library District, 100 S Washington St., Byron, IL 61
 010, United States
ROOM: Creative Studio
DESCRIPTION:This flower pot bunny is easy to make and perfect to give as a
 n Easter gift or to add to any spring décor. All supplies will be provide
 d. 
URL:https://www.byronlibrary.org/event/diy-flower-pot-bunny-7858
END:VEVENT
END:VCALENDAR
