BEGIN:VCALENDAR
VERSION:2.0
PRODID:-//Library Market//iCal Export//EN
BEGIN:VEVENT
SUMMARY:Sparkle &amp; Shine Card Workshop
UID:7862
DTSTAMP:20260423T033500Z
DTSTART:20250422T223000Z
DTEND:20250423T003000Z
LOCATION:Byron Public Library District, 100 S Washington St., Byron, IL 61
 010, United States
ROOM: Creative Studio
DESCRIPTION:Learn how to add some sparkle and shine to your cards. In this
  workshop style program, you&#039;ll rotate to different stations to use t
 ransfer foil, micro-fine glitter paper and alcohol markers to make some of
  your card elements shimmer. We will also learn how to use page maps to ge
 t the most out of a sheet of scrapbook paper. 
URL:https://www.byronlibrary.org/event/creative-studio-open-house-7862
END:VEVENT
END:VCALENDAR
