BEGIN:VCALENDAR
VERSION:2.0
PRODID:-//Library Market//iCal Export//EN
BEGIN:VEVENT
SUMMARY:Dan Gogh Magic &amp; Comedy Show
UID:8258
DTSTAMP:20260423T033300Z
DTSTART:20250616T153000Z
DTEND:20250616T163000Z
LOCATION:Byron Public Library District, 100 S Washington St., Byron, IL 61
 010, United States
ROOM: Meeting Room
DESCRIPTION:Artist-Magician Dan Gogh uses comedy, magic, and art to unlock
  the mystery of creativity. Register children only. Parent name goes on th
 e parent name line. If your child is under the age of 6, a parent must att
 end and sit with child during show. Children age 7 and up may attend show 
 alone, but a parent should remain in the building. Older siblings are welc
 ome.
URL:https://www.byronlibrary.org/event/dan-gogh-magic-comedy-show-8258
END:VEVENT
END:VCALENDAR
