BEGIN:VCALENDAR
VERSION:2.0
PRODID:-//Library Market//iCal Export//EN
BEGIN:VEVENT
SUMMARY:Animal Show
UID:8259
DTSTAMP:20260423T033600Z
DTSTART:20250609T150000Z
DTEND:20250609T154500Z
LOCATION:Byron Public Library District, 100 S Washington St., Byron, IL 61
 010, United States
ROOM: Meeting Room
DESCRIPTION:Learn about animals and see them in person! Note: This program
  is open to all but is best for ages 3 years and up. Parents must attend w
 ith all children under the age of 6. Grade schoolers may attend alone but 
 parents should remain in the building. Older siblings welcome.
URL:https://www.byronlibrary.org/event/youth-program-8259
END:VEVENT
END:VCALENDAR
