BEGIN:VCALENDAR
VERSION:2.0
PRODID:-//Library Market//iCal Export//EN
BEGIN:VEVENT
SUMMARY:Ice Cream Party
UID:8264
DTSTAMP:20260423T033100Z
DTSTART:20250817T190000Z
DTEND:20250817T210000Z
LOCATION:Byron Public Library District, 100 S Washington St., Byron, IL 61
 010, United States
ROOM: Activity Room &amp; Meeting Room
DESCRIPTION:Join us for an end-of-summer ice cream party! Make an ice crea
 m sundae and enjoy art &amp; activity stations in the youth department. Th
 is event is for youth up to 5th grade, but older siblings are welcome. Ple
 ase register children only but adults can have ice cream too!
URL:https://www.byronlibrary.org/event/end-summer-celebration-8264
END:VEVENT
END:VCALENDAR
