BEGIN:VCALENDAR
VERSION:2.0
PRODID:-//Library Market//iCal Export//EN
BEGIN:VEVENT
SUMMARY:Teen Henna Workshop
UID:829
DTSTAMP:20260423T115100Z
DTSTART:20240624T173000Z
DTEND:20240624T190000Z
LOCATION:Byron Public Library District, 100 S Washington St., Byron, IL 61
 010, United States
ROOM: Meeting Room
DESCRIPTION:Artist Julie Engh from Prairie Henna will do a short presentat
 ion on the history of henna and will provide a small henna cone for practi
 ce. Everyone will receive a small henna design from the artist!After the w
 orkshop, feel free to head downstairs for Teen Time from 2-4 pm.  
URL:https://www.byronlibrary.org/event/teen-henna-workshop-829
END:VEVENT
END:VCALENDAR
