BEGIN:VCALENDAR
VERSION:2.0
PRODID:-//Library Market//iCal Export//EN
BEGIN:VEVENT
SUMMARY:Shiitake Mushroom Cultivation - The Basics
UID:8308
DTSTAMP:20260423T033300Z
DTSTART:20250424T230000Z
DTEND:20250425T000000Z
LOCATION:Byron Public Library District, 100 S Washington St., Byron, IL 61
 010, United States
ROOM: Meeting Room
DESCRIPTION:Join Hunter Le Duc for an engaging program where you&#039;ll l
 earn the art and science of cultivating shiitake mushrooms. The shiitake i
 s an edible mushroom native to East Asia that is used in many dishes acros
 s the world. Explore the history and various methods of shiitake cultivati
 on step-by-step that can also be applied to other species including Oyster
  Mushroom, Lion&#039;s Mane and more. Hunter is certified as a wild mushr
 oom expert, and is a member of various Mycological Societies. 
URL:https://www.byronlibrary.org/event/shiitake-mushroom-cultivation-8308
END:VEVENT
END:VCALENDAR
