BEGIN:VCALENDAR
VERSION:2.0
PRODID:-//Library Market//iCal Export//EN
BEGIN:VEVENT
SUMMARY:Teen Movie &amp; Pizza
UID:832
DTSTAMP:20260423T115100Z
DTSTART:20240618T170000Z
DTEND:20240618T190000Z
LOCATION:Byron Public Library District, 100 S Washington St., Byron, IL 61
 010, United States
ROOM: Teen Department
DESCRIPTION:Watch the 2023 movie in which you will meet Willy Wonka, a you
 ng aspiring magician, inventor, and chocolatier with a difficult dream to 
 open his very own chocolate shop! Pizza will be served.Wonka with Timothé
 e Chalamet- Rated PG, Runtime 1:57After the movie stay for Teen Time from 
 2-4 pm!
URL:https://www.byronlibrary.org/event/teen-movie-pizza-832
END:VEVENT
END:VCALENDAR
