BEGIN:VCALENDAR
VERSION:2.0
PRODID:-//Library Market//iCal Export//EN
BEGIN:VEVENT
SUMMARY:Throw Pillow Sewing Class for Teens
UID:833
DTSTAMP:20260423T115200Z
DTSTART:20240603T173000Z
DTEND:20240603T190000Z
LOCATION:Byron Public Library District, 100 S Washington St., Byron, IL 61
 010, United States
ROOM: Creative Studio
DESCRIPTION:Learn how to sew a throw pillow under the tutelage of our sewi
 ng expert Beth! You must have taken the beginner&#039;s sewing class first
  to qualify for this class. Afterwards, stay for Teen Time from 2-4 pm! 
URL:https://www.byronlibrary.org/event/throw-pillow-sewing-class-teens-833
END:VEVENT
END:VCALENDAR
