BEGIN:VCALENDAR
VERSION:2.0
PRODID:-//Library Market//iCal Export//EN
BEGIN:VEVENT
SUMMARY:Colorful Collage Kit
UID:8341
DTSTAMP:20260423T032400Z
DTSTART:20250321T140000Z
DTEND:20250321T220000Z
LOCATION:Byron Public Library District, 100 S Washington St., Byron, IL 61
 010, United States
ROOM: Colorful Collage Kit
DESCRIPTION:Paint, collage &amp; create! An open-ended art experience in y
 our child&#039;s favorite color! This kit is for 3  years old-K.
URL:https://www.byronlibrary.org/event/colorful-collage-kit-8341
END:VEVENT
END:VCALENDAR
