BEGIN:VCALENDAR
VERSION:2.0
PRODID:-//Library Market//iCal Export//EN
BEGIN:VEVENT
SUMMARY:Baby &amp; Toddler Time-Spring Session: Thursdays
UID:8350
DTSTAMP:20260423T050500Z
DTSTART:20250306T153000Z
DTEND:20250306T161500Z
LOCATION:Byron Public Library District, 100 S Washington St., Byron, IL 61
 010, United States
ROOM: Meeting Room
DESCRIPTION:
URL:https://www.byronlibrary.org/event/baby-toddler-time-spring-session-th
 ursdays-8350
END:VEVENT
END:VCALENDAR
