BEGIN:VCALENDAR
VERSION:2.0
PRODID:-//Library Market//iCal Export//EN
BEGIN:VEVENT
SUMMARY:Baby &amp; Toddler Time-Spring Session: Thursdays
UID:8351
DTSTAMP:20260423T032200Z
DTSTART:20250313T143000Z
DTEND:20250313T151500Z
LOCATION:Byron Public Library District, 100 S Washington St., Byron, IL 61
 010, United States
ROOM: Meeting Room
DESCRIPTION:
URL:https://www.byronlibrary.org/event/baby-toddler-time-spring-session-th
 ursdays-8351
END:VEVENT
END:VCALENDAR
