BEGIN:VCALENDAR
VERSION:2.0
PRODID:-//Library Market//iCal Export//EN
BEGIN:VEVENT
SUMMARY:Baby &amp; Toddler Time-Spring Session: Thursdays
UID:8353
DTSTAMP:20260423T033100Z
DTSTART:20250403T143000Z
DTEND:20250403T151500Z
LOCATION:Byron Public Library District, 100 S Washington St., Byron, IL 61
 010, United States
ROOM: Meeting Room
DESCRIPTION:
URL:https://www.byronlibrary.org/event/baby-toddler-time-spring-session-th
 ursdays-8353
END:VEVENT
END:VCALENDAR
