BEGIN:VCALENDAR
VERSION:2.0
PRODID:-//Library Market//iCal Export//EN
BEGIN:VEVENT
SUMMARY:Preschool Storytime-Spring Session: Wednesdays
UID:8360
DTSTAMP:20260423T033700Z
DTSTART:20250409T143000Z
DTEND:20250409T153000Z
LOCATION:Byron Public Library District, 100 S Washington St., Byron, IL 61
 010, United States
ROOM: Activity Room
DESCRIPTION:
URL:https://www.byronlibrary.org/event/preschool-storytime-spring-session-
 wednesdays-8360
END:VEVENT
END:VCALENDAR
