BEGIN:VCALENDAR
VERSION:2.0
PRODID:-//Library Market//iCal Export//EN
BEGIN:VEVENT
SUMMARY:Preschool Storytime-Spring Session: Wednesdays
UID:8362
DTSTAMP:20260423T033200Z
DTSTART:20250423T143000Z
DTEND:20250423T153000Z
LOCATION:Byron Public Library District, 100 S Washington St., Byron, IL 61
 010, United States
ROOM: Activity Room
DESCRIPTION:
URL:https://www.byronlibrary.org/event/preschool-storytime-spring-session-
 wednesdays-8362
END:VEVENT
END:VCALENDAR
