BEGIN:VCALENDAR
VERSION:2.0
PRODID:-//Library Market//iCal Export//EN
BEGIN:VEVENT
SUMMARY:Preschool Storytime-Spring Session: Thursdays
UID:8364
DTSTAMP:20260423T032200Z
DTSTART:20250313T143000Z
DTEND:20250313T153000Z
LOCATION:Byron Public Library District, 100 S Washington St., Byron, IL 61
 010, United States
ROOM: Activity Room
DESCRIPTION:
URL:https://www.byronlibrary.org/event/preschool-storytime-spring-session-
 thursdays-8364
END:VEVENT
END:VCALENDAR
