BEGIN:VCALENDAR
VERSION:2.0
PRODID:-//Library Market//iCal Export//EN
BEGIN:VEVENT
SUMMARY:Design a D&amp;D Campaign for Teens
UID:8391
DTSTAMP:20260423T033600Z
DTSTART:20250307T000000Z
DTEND:20250307T013000Z
LOCATION:Byron Public Library District, 100 S Washington St., Byron, IL 61
 010, United States
ROOM: Teen Department
DESCRIPTION:An experienced adult D&amp;D Dungeon Master will give students
  an overview of world-building and how to develop characters, races, and b
 ackstories for a D&amp;D campaign. Will include tips for creating homebrew
  elements and crafting a campaign from scratch. Great for anyone who wants
  to learn more about being a Dungeon Master! 
URL:https://www.byronlibrary.org/event/design-dd-campaign-teens-8391
END:VEVENT
END:VCALENDAR
