BEGIN:VCALENDAR
VERSION:2.0
PRODID:-//Library Market//iCal Export//EN
BEGIN:VEVENT
SUMMARY:Volunteens- Kindness Rocks
UID:8436
DTSTAMP:20260423T033400Z
DTSTART:20250310T230000Z
DTEND:20250311T000000Z
LOCATION:Byron Public Library District, 100 S Washington St., Byron, IL 61
 010, United States
ROOM: Meeting Room
DESCRIPTION:Earn volunteer credit by painting Kindness Rocks on March 10th
  to place around the Byron community this spring!
URL:https://www.byronlibrary.org/event/volunteens-kindness-rocks-8436
END:VEVENT
END:VCALENDAR
