BEGIN:VCALENDAR
VERSION:2.0
PRODID:-//Library Market//iCal Export//EN
BEGIN:VEVENT
SUMMARY:Painted Pot Kit for Teens
UID:8437
DTSTAMP:20260423T033000Z
DTSTART:20250324T050000Z
DTEND:20250324T050000Z
LOCATION:Byron Public Library District, 100 S Washington St., Byron, IL 61
 010, United States
ROOM: Painted Pot Kit for Teens
DESCRIPTION:Sign up for a small painted pot kit this Spring Break. You can
  take it home to paint, and a few plants will be included when you pick it
  up. 
URL:https://www.byronlibrary.org/event/painted-pot-kit-teens-8437
END:VEVENT
END:VCALENDAR
