BEGIN:VCALENDAR
VERSION:2.0
PRODID:-//Library Market//iCal Export//EN
BEGIN:VEVENT
SUMMARY:Teen Dungeons &amp; Dragons
UID:8443
DTSTAMP:20260423T033200Z
DTSTART:20250312T203000Z
DTEND:20250312T220000Z
LOCATION:Byron Public Library District, 100 S Washington St., Byron, IL 61
 010, United States
ROOM: Teen Dungeons &amp; Dragons
DESCRIPTION:Join our weekly after-school D&amp;D group, which is open to n
 ew and experienced players! The two Dungeon Masters alternate weeks, so it
  would be best to pick one D&amp;D campaign and come every other week, so 
 you stay with one DM and epic journey! Adam- 3/5, 3/19, 4/9, 4/23Jacob- 3
 /12, 4/2, 4/16, 4/30
URL:https://www.byronlibrary.org/event/teen-dungeons-dragons-8443
END:VEVENT
END:VCALENDAR
