BEGIN:VCALENDAR
VERSION:2.0
PRODID:-//Library Market//iCal Export//EN
BEGIN:VEVENT
SUMMARY:Teen Dungeons &amp; Dragons
UID:8444
DTSTAMP:20260423T033400Z
DTSTART:20250319T203000Z
DTEND:20250319T220000Z
LOCATION:Byron Public Library District, 100 S Washington St., Byron, IL 61
 010, United States
ROOM: Classroom 2
DESCRIPTION:
URL:https://www.byronlibrary.org/event/teen-dungeons-dragons-8444
END:VEVENT
END:VCALENDAR
